BEGIN:VCALENDAR
VERSION:2.0
PRODID:Events Booking
BEGIN:VEVENT
UID:69e75b5aeff6a
SUMMARY:North West Branch UK
DESCRIPTION:NW Branch contact Ian Rogers. Everyone welcome at
 The George 
 &amp\; Dragon\,&nbsp\;67 High St\, Tarvin\, Chester CH3 8EE\, UK
 This ye
 ar's projects are:
 January 17th Dorset Buttons
 February 21st Globe Kno
 ts
 March 21st Pineapple Knots
 April 18th Sailors Cross or Guild Badge
 
 May 16th Trays
 June 20th Square Mat or rope making Weather permitting.
 
 July 18th Elongated Mat or Ropemaking
 August 16th Worming &amp\; parc
 eling or Ropemaking
 September 20th Bell rope made from Rope made over Su
 mmer .
 October 18th Skeletons Solomon dolls
 November 28th Christmas de
 corations
 December 12th Christmas lunch
 &nbsp\;
LOCATION:67 High St\, Tarvin\, Chester CH3 8EE\, UK
DTSTART:20260516T120000Z
DTEND:20260516T170000Z
DTSTAMP:20260131T223050Z
ORGANIZER:MAILTO:IGKT
GEO:53.197754;-2.763495
X-APPLE-STRUCTURED-LOCATION;VALUE=URI;X-ADDRESS=67 High St\, Tarvin\, Chest
 er CH3 8EE\, UK;X-APPLE-RADIUS=72;X-TITLE=George & Dragon :53.197754;-2.76
 3495
END:VEVENT
BEGIN:VEVENT
UID:69e75b5aeffed
SUMMARY:West Country Knotters\, UK
DESCRIPTION:This is a regular meeting of the IGKT West Country Knotters nea
 r the city of Bristol. Everyone with an interest in knots and rope or cord
  is welcome.
 Please contact This email address is being protected from s
 pambots. You need JavaScript enabled to view it.&nbsp\;for more details.
LOCATION:Fernhill\, Almondsbury\, Bristol BS32 4LX\, UK
DTSTART:20260530T130000Z
DTEND:20260530T170000Z
DTSTAMP:20260202T222716Z
ORGANIZER:MAILTO:IGKT
GEO:51.565383;-2.562903
X-APPLE-STRUCTURED-LOCATION;VALUE=URI;X-ADDRESS=Fernhill\, Almondsbury\, Br
 istol BS32 4LX\, UK;X-APPLE-RADIUS=72;X-TITLE=Woodhouse Park:51.565383;-2.
 562903
END:VEVENT
BEGIN:VEVENT
UID:69e75b5af0019
SUMMARY:North West Branch UK
DESCRIPTION:NW Branch contact Ian Rogers. Everyone welcome at
 The George 
 &amp\; Dragon\,&nbsp\;67 High St\, Tarvin\, Chester CH3 8EE\, UK
 This ye
 ar's projects are:
 January 17th Dorset Buttons
 February 21st Globe Kno
 ts
 March 21st Pineapple Knots
 April 18th Sailors Cross or Guild Badge
 
 May 16th Trays
 June 20th Square Mat or rope making Weather permitting.
 
 July 18th Elongated Mat or Ropemaking
 August 16th Worming &amp\; parc
 eling or Ropemaking
 September 20th Bell rope made from Rope made over Su
 mmer .
 October 18th Skeletons Solomon dolls
 November 28th Christmas de
 corations
 December 12th Christmas lunch
 &nbsp\;
LOCATION:67 High St\, Tarvin\, Chester CH3 8EE\, UK
DTSTART:20260620T120000Z
DTEND:20260620T170000Z
DTSTAMP:20260131T223050Z
ORGANIZER:MAILTO:IGKT
GEO:53.197754;-2.763495
X-APPLE-STRUCTURED-LOCATION;VALUE=URI;X-ADDRESS=67 High St\, Tarvin\, Chest
 er CH3 8EE\, UK;X-APPLE-RADIUS=72;X-TITLE=George & Dragon :53.197754;-2.76
 3495
END:VEVENT
BEGIN:VEVENT
UID:69e75b5af003b
SUMMARY:North West Branch UK
DESCRIPTION:NW Branch contact Ian Rogers. Everyone welcome at
 The George 
 &amp\; Dragon\,&nbsp\;67 High St\, Tarvin\, Chester CH3 8EE\, UK
 This ye
 ar's projects are:
 January 17th Dorset Buttons
 February 21st Globe Kno
 ts
 March 21st Pineapple Knots
 April 18th Sailors Cross or Guild Badge
 
 May 16th Trays
 June 20th Square Mat or rope making Weather permitting.
 
 July 18th Elongated Mat or Ropemaking
 August 16th Worming &amp\; parc
 eling or Ropemaking
 September 20th Bell rope made from Rope made over Su
 mmer .
 October 18th Skeletons Solomon dolls
 November 28th Christmas de
 corations
 December 12th Christmas lunch
 &nbsp\;
LOCATION:67 High St\, Tarvin\, Chester CH3 8EE\, UK
DTSTART:20260718T120000Z
DTEND:20260718T170000Z
DTSTAMP:20260131T223050Z
ORGANIZER:MAILTO:IGKT
GEO:53.197754;-2.763495
X-APPLE-STRUCTURED-LOCATION;VALUE=URI;X-ADDRESS=67 High St\, Tarvin\, Chest
 er CH3 8EE\, UK;X-APPLE-RADIUS=72;X-TITLE=George & Dragon :53.197754;-2.76
 3495
END:VEVENT
BEGIN:VEVENT
UID:69e75b5af0059
SUMMARY:North West Branch UK
DESCRIPTION:NW Branch contact Ian Rogers. Everyone welcome at
 The George 
 &amp\; Dragon\,&nbsp\;67 High St\, Tarvin\, Chester CH3 8EE\, UK
 This ye
 ar's projects are:
 January 17th Dorset Buttons
 February 21st Globe Kno
 ts
 March 21st Pineapple Knots
 April 18th Sailors Cross or Guild Badge
 
 May 16th Trays
 June 20th Square Mat or rope making Weather permitting.
 
 July 18th Elongated Mat or Ropemaking
 August 16th Worming &amp\; parc
 eling or Ropemaking
 September 20th Bell rope made from Rope made over Su
 mmer .
 October 18th Skeletons Solomon dolls
 November 28th Christmas de
 corations
 December 12th Christmas lunch
 &nbsp\;
LOCATION:67 High St\, Tarvin\, Chester CH3 8EE\, UK
DTSTART:20260815T120000Z
DTEND:20260815T170000Z
DTSTAMP:20260131T223050Z
ORGANIZER:MAILTO:IGKT
GEO:53.197754;-2.763495
X-APPLE-STRUCTURED-LOCATION;VALUE=URI;X-ADDRESS=67 High St\, Tarvin\, Chest
 er CH3 8EE\, UK;X-APPLE-RADIUS=72;X-TITLE=George & Dragon :53.197754;-2.76
 3495
END:VEVENT
BEGIN:VEVENT
UID:69e75b5af0077
SUMMARY:North West Branch UK
DESCRIPTION:NW Branch contact Ian Rogers. Everyone welcome at
 The George 
 &amp\; Dragon\,&nbsp\;67 High St\, Tarvin\, Chester CH3 8EE\, UK
 This ye
 ar's projects are:
 January 17th Dorset Buttons
 February 21st Globe Kno
 ts
 March 21st Pineapple Knots
 April 18th Sailors Cross or Guild Badge
 
 May 16th Trays
 June 20th Square Mat or rope making Weather permitting.
 
 July 18th Elongated Mat or Ropemaking
 August 16th Worming &amp\; parc
 eling or Ropemaking
 September 20th Bell rope made from Rope made over Su
 mmer .
 October 18th Skeletons Solomon dolls
 November 28th Christmas de
 corations
 December 12th Christmas lunch
 &nbsp\;
LOCATION:67 High St\, Tarvin\, Chester CH3 8EE\, UK
DTSTART:20260919T120000Z
DTEND:20260919T170000Z
DTSTAMP:20260131T223050Z
ORGANIZER:MAILTO:IGKT
GEO:53.197754;-2.763495
X-APPLE-STRUCTURED-LOCATION;VALUE=URI;X-ADDRESS=67 High St\, Tarvin\, Chest
 er CH3 8EE\, UK;X-APPLE-RADIUS=72;X-TITLE=George & Dragon :53.197754;-2.76
 3495
END:VEVENT
BEGIN:VEVENT
UID:69e75b5af0096
SUMMARY:West Country Knotters\, UK
DESCRIPTION:This is a regular meeting of the IGKT West Country Knotters nea
 r the city of Bristol. Everyone with an interest in knots and rope or cord
  is welcome.
 Please contact This email address is being protected from s
 pambots. You need JavaScript enabled to view it.&nbsp\;for more details.
LOCATION:Fernhill\, Almondsbury\, Bristol BS32 4LX\, UK
DTSTART:20260926T130000Z
DTEND:20260926T170000Z
DTSTAMP:20260202T222854Z
ORGANIZER:MAILTO:IGKT
GEO:51.565383;-2.562903
X-APPLE-STRUCTURED-LOCATION;VALUE=URI;X-ADDRESS=Fernhill\, Almondsbury\, Br
 istol BS32 4LX\, UK;X-APPLE-RADIUS=72;X-TITLE=Woodhouse Park:51.565383;-2.
 562903
END:VEVENT
BEGIN:VEVENT
UID:69e75b5af00c4
SUMMARY:North West Branch UK
DESCRIPTION:NW Branch contact Ian Rogers. Everyone welcome at
 The George 
 &amp\; Dragon\,&nbsp\;67 High St\, Tarvin\, Chester CH3 8EE\, UK
 This ye
 ar's projects are:
 January 17th Dorset Buttons
 February 21st Globe Kno
 ts
 March 21st Pineapple Knots
 April 18th Sailors Cross or Guild Badge
 
 May 16th Trays
 June 20th Square Mat or rope making Weather permitting.
 
 July 18th Elongated Mat or Ropemaking
 August 16th Worming &amp\; parc
 eling or Ropemaking
 September 20th Bell rope made from Rope made over Su
 mmer .
 October 18th Skeletons Solomon dolls
 November 28th Christmas de
 corations
 December 12th Christmas lunch
 &nbsp\;
LOCATION:67 High St\, Tarvin\, Chester CH3 8EE\, UK
DTSTART:20261017T120000Z
DTEND:20261017T170000Z
DTSTAMP:20260131T223050Z
ORGANIZER:MAILTO:IGKT
GEO:53.197754;-2.763495
X-APPLE-STRUCTURED-LOCATION;VALUE=URI;X-ADDRESS=67 High St\, Tarvin\, Chest
 er CH3 8EE\, UK;X-APPLE-RADIUS=72;X-TITLE=George & Dragon :53.197754;-2.76
 3495
END:VEVENT
BEGIN:VEVENT
UID:69e75b5af00e2
SUMMARY:North West Branch UK
DESCRIPTION:NW Branch contact Ian Rogers. Everyone welcome at
 The George 
 &amp\; Dragon\,&nbsp\;67 High St\, Tarvin\, Chester CH3 8EE\, UK
 This ye
 ar's projects are:
 January 17th Dorset Buttons
 February 21st Globe Kno
 ts
 March 21st Pineapple Knots
 April 18th Sailors Cross or Guild Badge
 
 May 16th Trays
 June 20th Square Mat or rope making Weather permitting.
 
 July 18th Elongated Mat or Ropemaking
 August 16th Worming &amp\; parc
 eling or Ropemaking
 September 20th Bell rope made from Rope made over Su
 mmer .
 October 18th Skeletons Solomon dolls
 November 28th Christmas de
 corations
 December 12th Christmas lunch
 &nbsp\;
LOCATION:67 High St\, Tarvin\, Chester CH3 8EE\, UK
DTSTART:20261121T120000Z
DTEND:20261121T170000Z
DTSTAMP:20260131T223050Z
ORGANIZER:MAILTO:IGKT
GEO:53.197754;-2.763495
X-APPLE-STRUCTURED-LOCATION;VALUE=URI;X-ADDRESS=67 High St\, Tarvin\, Chest
 er CH3 8EE\, UK;X-APPLE-RADIUS=72;X-TITLE=George & Dragon :53.197754;-2.76
 3495
END:VEVENT
BEGIN:VEVENT
UID:69e75b5af011b
SUMMARY:West Country Knotters\, UK
DESCRIPTION:This is a regular meeting of the IGKT West Country Knotters nea
 r the city of Bristol. Everyone with an interest in knots and rope or cord
  is welcome.
 Please contact This email address is being protected from s
 pambots. You need JavaScript enabled to view it.&nbsp\;for more details.
LOCATION:Fernhill\, Almondsbury\, Bristol BS32 4LX\, UK
DTSTART:20261128T130000Z
DTEND:20261128T170000Z
DTSTAMP:20260202T223003Z
ORGANIZER:MAILTO:IGKT
GEO:51.565383;-2.562903
X-APPLE-STRUCTURED-LOCATION;VALUE=URI;X-ADDRESS=Fernhill\, Almondsbury\, Br
 istol BS32 4LX\, UK;X-APPLE-RADIUS=72;X-TITLE=Woodhouse Park:51.565383;-2.
 562903
END:VEVENT
BEGIN:VEVENT
UID:69e75b5af0140
SUMMARY:North West Branch UK
DESCRIPTION:NW Branch contact Ian Rogers. Everyone welcome at
 The George 
 &amp\; Dragon\,&nbsp\;67 High St\, Tarvin\, Chester CH3 8EE\, UK
 This ye
 ar's projects are:
 January 17th Dorset Buttons
 February 21st Globe Kno
 ts
 March 21st Pineapple Knots
 April 18th Sailors Cross or Guild Badge
 
 May 16th Trays
 June 20th Square Mat or rope making Weather permitting.
 
 July 18th Elongated Mat or Ropemaking
 August 16th Worming &amp\; parc
 eling or Ropemaking
 September 20th Bell rope made from Rope made over Su
 mmer .
 October 18th Skeletons Solomon dolls
 November 28th Christmas de
 corations
 December 12th Christmas lunch
 &nbsp\;
LOCATION:67 High St\, Tarvin\, Chester CH3 8EE\, UK
DTSTART:20261219T120000Z
DTEND:20261219T170000Z
DTSTAMP:20260131T223050Z
ORGANIZER:MAILTO:IGKT
GEO:53.197754;-2.763495
X-APPLE-STRUCTURED-LOCATION;VALUE=URI;X-ADDRESS=67 High St\, Tarvin\, Chest
 er CH3 8EE\, UK;X-APPLE-RADIUS=72;X-TITLE=George & Dragon :53.197754;-2.76
 3495
END:VEVENT
END:VCALENDAR