BEGIN:VCALENDAR
VERSION:2.0
PRODID:Events Booking
BEGIN:VEVENT
UID:69e88ecfdb102
SUMMARY:Knotting Event in Stockholm
DESCRIPTION:Welcome to a Knotting Event
 In Stockholm\, Sweden
 26/9 - 28
 /9 2025
 Coordinates 59°19\,542 N / 18°05\,275 E&nbsp\;&nbsp\;
 Skepps
 holmens folkhögskola (Skeppsholmen college)
 Right in the middle of Stoc
 kholm\, facing the museum of the old ship Vasa.
 We come together Friday 
 26/9 in the afternoon for a meal and prepare for the open exhibition of ou
 r works and workshops on Saturday 27/9. (the event will be highlighted in 
 the event-calendar of visitstockholm.com)
 If you’re interested in show
 ing your work and perhaps have a lecture or workshop to give\, please let 
 me know.
 Please bring a contribution to a raffle for the benefit of Ukra
 ine.
 Please contact me at&nbsp\;fyr@telia.com&nbsp\;for further question
 s and to enlist
 To search for accommodation\, please look at&nbsp\;www.v
 isitstockhlm.se&nbsp\;or contact me at&nbsp\;fyr@telia.com
 Program for t
 he meeting is under construction.
 Very much looking forward to seeing yo
 u in Stockholm in September!
 Marianne Brohall tel. +46705760126
 Adress
 : Grevturegatan 46\, S-11438 Stockholm
 E-mail.&nbsp\;fyr@telia.com
LOCATION:Slupskjulsvägen 12\, 111 49 Stockholm\, Sweden
DTSTART:20250926T130000Z
DTEND:20250928T160000Z
DTSTAMP:20250605T144757Z
ORGANIZER;CN=IGKT:MAILTO:webmaster@igkt.net
GEO:59.325979;18.087847
X-APPLE-STRUCTURED-LOCATION;VALUE=URI;X-ADDRESS=Slupskjulsvägen 12\, 111 4
 9 Stockholm\, Sweden;X-APPLE-RADIUS=72;X-TITLE=Skeppsholmen College:59.325
 979;18.087847
END:VEVENT
END:VCALENDAR