BEGIN:VCALENDAR
VERSION:2.0
PRODID:Events Booking
BEGIN:VEVENT
UID:69e4e2c67bc42
SUMMARY:2027 IGKT Symposium & AGM
DESCRIPTION:Advance notice of the 2027 AGM at the National Maritime Museum 
 Cornwall in Falmouth UK.
 The Museum has a splendid collection of all thi
 ngs maritime\, as befits the historic Port of Falmouth which has served th
 e Royal Navy from the time Henry VIII.
 The dates for our symposium are f
 ixed: more details later in 2027
LOCATION:Falmouth TR11 3QY\, UK
DTSTART:20270506T090000Z
DTEND:20270509T160000Z
DTSTAMP:20260203T160154Z
ORGANIZER;CN=IGKT:MAILTO:webmaster@igkt.net
GEO:50.151513;-5.061596
X-APPLE-STRUCTURED-LOCATION;VALUE=URI;X-ADDRESS=Falmouth TR11 3QY\, UK;X-AP
 PLE-RADIUS=72;X-TITLE=National Maritime Museum Cornwall:50.151513;-5.06159
 6
END:VEVENT
END:VCALENDAR