BEGIN:VCALENDAR
VERSION:2.0
PRODID:Events Booking
BEGIN:VEVENT
UID:69e541b9a7f15
SUMMARY:IGKT Autumn Meeting 2026
DESCRIPTION:2026 IGKT meeting on board the tall ship Suomen Joutsen.&nbsp\;
 Our President\, Mikko Snellman\, has organised a full program for the thre
 e days&nbsp\;Suomen_Joutsen_Program_2026
 Registration is open now.
 Her
 e are several suggestions about how to get to Turku.
 &nbsp\;
 &nbsp\;

  &nbsp\;
LOCATION:Linnankatu 72\, 20100 Turku\, Finland
DTSTART:20260918T100000Z
DTEND:20260920T170000Z
DTSTAMP:20260203T152603Z
ORGANIZER;CN=IGKT:MAILTO:webmaster@igkt.net
GEO:60.436316;22.237148
X-APPLE-STRUCTURED-LOCATION;VALUE=URI;X-ADDRESS=Linnankatu 72\, 20100 Turku
 \, Finland;X-APPLE-RADIUS=72;X-TITLE=Suomen Joutsen:60.436316;22.237148
END:VEVENT
END:VCALENDAR