BEGIN:VCALENDAR
VERSION:2.0
PRODID:Events Booking
BEGIN:VEVENT
UID:69e4e2b7df602
SUMMARY:IGKT-NA AGM 2026
DESCRIPTION:Watch IGKTNA.org for more details.
 Registration opens July 1 
 2026
LOCATION:125 Meigs St\, Sandusky\, OH 44870\, USA
DTSTART:20260918T100000Z
DTEND:20260920T170000Z
DTSTAMP:20260203T151139Z
ORGANIZER;CN=IGKT:MAILTO:webmaster@igkt.net
GEO:41.459695;-82.702981
X-APPLE-STRUCTURED-LOCATION;VALUE=URI;X-ADDRESS=125 Meigs St\, Sandusky\, O
 H 44870\, USA;X-APPLE-RADIUS=72;X-TITLE=Maritime Museum of Sandusky:41.459
 695;-82.702981
END:VEVENT
END:VCALENDAR